BEGIN:VCALENDAR
VERSION:2.0
PRODID:-//vocetogether.org//NONSGML kigkonsult.se iCalcreator 2.30.10//
CALSCALE:GREGORIAN
METHOD:PUBLISH
UID:fc6fd390-52d3-4747-bda0-388886c881b6
X-WR-CALDESC:This training focuses on the role of the Authorized Representa
 tive in providing services to adopted persons and birth and adoptive famil
 y members seeking information from the records and/or contact with each ot
 her. It provides participants with an understanding of the emotional aspec
 ts from the perspectives of the adoptee\, birth parents\, adoptive parents
  and birth siblings. Endorsed by the Pennsylvania Department of Human Serv
 ices (DHS) and coordinated by Voce\, this program is required for Authoriz
 ed Representatives. This training is designed solely for those individuals
  who have been appointed as authorized representatives for purposes of imp
 lementing Act 101 of 2010. For details on Act 101 and the role of the Auth
 orized Representative\, review Bulletin 3350-11-01 linked below. \n\nParti
 cipants in this training have the option to review a web-based introductor
 y Act 101 Overview training course in preparation. Instructions to complet
 e the introductory course are linked below. \n\n<p><small><i>This program 
 is offered for 6 CE hours of social work continuing education through co-s
 ponsorship of the University of Pittsburgh's School of Social Work\, a Cou
 ncil on Social Work Education accredited school and therefore a PA pre-app
 roved provider of social work continuing education. These credit hours sat
 isfy requirements for LSW/LCSW\, LMFT\, and LPC biennial license renewal. 
 For information on social work continuing education please visit <a href='
 https://socialwork.pitt.edu/professional-continuing-education'> socialwork
 .pitt.edu/professional-continuing-education.</a>\nContinuing legal educati
 on credits (CLEs) are also available for attorneys.</i></small></p>
X-WR-RELCALID:1daf2e45a198085726ce4264739d79a0
X-WR-TIMEZONE:America/New_York
BEGIN:VTIMEZONE
TZID:America/New_York
BEGIN:STANDARD
TZNAME:EST
DTSTART:20251102T020000
TZOFFSETFROM:-0400
TZOFFSETTO:-0500
RDATE:20261101T020000
END:STANDARD
BEGIN:DAYLIGHT
TZNAME:EDT
DTSTART:20250309T020000
TZOFFSETFROM:-0500
TZOFFSETTO:-0400
RDATE:20260308T020000
RDATE:20270314T020000
END:DAYLIGHT
END:VTIMEZONE
BEGIN:VEVENT
UID:1ecc616f-796e-4fda-bdef-8f98ce9c6538
DTSTAMP:20260423T005656Z
DESCRIPTION:This training focuses on the role of the Authorized Representat
 ive in providing services to adopted persons and birth and adoptive family
  members seeking information from the records and/or contact with each oth
 er. It provides participants with an understanding of the emotional aspect
 s from the perspectives of the adoptee\, birth parents\, adoptive parents 
 and birth siblings. Endorsed by the Pennsylvania Department of Human Servi
 ces (DHS) and coordinated by Voce\, this program is required for Authorize
 d Representatives. This training is designed solely for those individuals 
 who have been appointed as authorized representatives for purposes of impl
 ementing Act 101 of 2010. For details on Act 101 and the role of the Autho
 rized Representative\, review Bulletin 3350-11-01 linked below. \n\nPartic
 ipants in this training have the option to review a web-based introductory
  Act 101 Overview training course in preparation. Instructions to complete
  the introductory course are linked below. \n\n<p><small><i>This program i
 s offered for 6 CE hours of social work continuing education through co-sp
 onsorship of the University of Pittsburgh's School of Social Work\, a Coun
 cil on Social Work Education accredited school and therefore a PA pre-appr
 oved provider of social work continuing education. These credit hours sati
 sfy requirements for LSW/LCSW\, LMFT\, and LPC biennial license renewal. F
 or information on social work continuing education please visit <a href='h
 ttps://socialwork.pitt.edu/professional-continuing-education'> socialwork.
 pitt.edu/professional-continuing-education.</a>\nContinuing legal educatio
 n credits (CLEs) are also available for attorneys.</i></small></p>
DTSTART;TZID=America/New_York:20260107T090000
DTEND;TZID=America/New_York:20260107T160000
LOCATION:300 Corporate Center Drive\, Camp Hill\, PA 17011 US
SUMMARY:Act 101 of 2010 Training Program for Court and Agency Appointed Aut
 horized Representatives
END:VEVENT
END:VCALENDAR
